BEGIN:VCALENDAR
VERSION:2.0
PRODID:-//Habitat for Humanity Baldwin County - ECPv6.15.20//NONSGML v1.0//EN
CALSCALE:GREGORIAN
METHOD:PUBLISH
X-WR-CALNAME:Habitat for Humanity Baldwin County
X-ORIGINAL-URL:https://habitatbaldwin.org
X-WR-CALDESC:Events for Habitat for Humanity Baldwin County
REFRESH-INTERVAL;VALUE=DURATION:PT1H
X-Robots-Tag:noindex
X-PUBLISHED-TTL:PT1H
BEGIN:VTIMEZONE
TZID:America/Chicago
BEGIN:DAYLIGHT
TZOFFSETFROM:-0600
TZOFFSETTO:-0500
TZNAME:CDT
DTSTART:20250309T080000
END:DAYLIGHT
BEGIN:STANDARD
TZOFFSETFROM:-0500
TZOFFSETTO:-0600
TZNAME:CST
DTSTART:20251102T070000
END:STANDARD
BEGIN:DAYLIGHT
TZOFFSETFROM:-0600
TZOFFSETTO:-0500
TZNAME:CDT
DTSTART:20260308T080000
END:DAYLIGHT
BEGIN:STANDARD
TZOFFSETFROM:-0500
TZOFFSETTO:-0600
TZNAME:CST
DTSTART:20261101T070000
END:STANDARD
BEGIN:DAYLIGHT
TZOFFSETFROM:-0600
TZOFFSETTO:-0500
TZNAME:CDT
DTSTART:20270314T080000
END:DAYLIGHT
BEGIN:STANDARD
TZOFFSETFROM:-0500
TZOFFSETTO:-0600
TZNAME:CST
DTSTART:20271107T070000
END:STANDARD
END:VTIMEZONE
BEGIN:VEVENT
DTSTART;TZID=America/Chicago:20260209T100000
DTEND;TZID=America/Chicago:20260209T110000
DTSTAMP:20260424T112708
CREATED:20251210T222439Z
LAST-MODIFIED:20251210T222439Z
UID:3045-1770631200-1770634800@habitatbaldwin.org
SUMMARY:Power Hour: Spending Planning 101 - Financial Education Class
DESCRIPTION:Habitat Baldwin currently offers various financial education curriculums. All classes and coaching are currently offered free of charge\, and all courses are open to the public\, but registration is required. \nThis financial education class is called “Power Hour: Spending Planning 101.” An interactive one-hour course designed to encourage participants to take control of their money by examining their motivations\, habits\, and attitudes surrounding their personal finances. The purpose of the course is to assist participants in identifying and setting SMART personal financial goals\, developing realistic spending plans\, and choosing the tracking methods to best suit their family’s lifestyle. The course is fun\, interactive\, and informative. Participants should bring or have access to a bank statement or spending trends for at least 30 days as well as a list of income and recurring expenses. \nThe course is offered free of charge; however\, you must register at least 24 hours before the class at the link below. \n\nQuestions? Call (251) 943-7268 or email sstephens@habitatbaldwin.org. Please register here.
URL:https://habitatbaldwin.org/event/power-hour-spending-planning-101-financial-education-class/
CATEGORIES:Financial Foundation
ATTACH;FMTTYPE=image/png:https://habitatbaldwin.org/wp-content/uploads/2022/12/1.png
END:VEVENT
BEGIN:VEVENT
DTSTART;TZID=America/Chicago:20260209T180000
DTEND;TZID=America/Chicago:20260209T190000
DTSTAMP:20260424T112708
CREATED:20251210T222513Z
LAST-MODIFIED:20251210T222513Z
UID:3047-1770660000-1770663600@habitatbaldwin.org
SUMMARY:Power Hour: Spending Planning 101 - Financial Education Class
DESCRIPTION:Habitat Baldwin currently offers various financial education curriculums. All classes and coaching are currently offered free of charge\, and all courses are open to the public\, but registration is required. \nThis financial education class is called “Power Hour: Spending Planning 101.” An interactive one-hour course designed to encourage participants to take control of their money by examining their motivations\, habits\, and attitudes surrounding their personal finances. The purpose of the course is to assist participants in identifying and setting SMART personal financial goals\, developing realistic spending plans\, and choosing the tracking methods to best suit their family’s lifestyle. The course is fun\, interactive\, and informative. Participants should bring or have access to a bank statement or spending trends for at least 30 days as well as a list of income and recurring expenses. \nThe course is offered free of charge; however\, you must register at least 24 hours before the class at the link below. \n\nQuestions? Call (251) 943-7268 or email sstephens@habitatbaldwin.org. Please register here.
URL:https://habitatbaldwin.org/event/power-hour-spending-planning-101-financial-education-class-2/
CATEGORIES:Financial Foundation
ATTACH;FMTTYPE=image/png:https://habitatbaldwin.org/wp-content/uploads/2022/12/1.png
END:VEVENT
BEGIN:VEVENT
DTSTART;TZID=America/Chicago:20260226T100000
DTEND;TZID=America/Chicago:20260226T110000
DTSTAMP:20260424T112708
CREATED:20240118T193833Z
LAST-MODIFIED:20251210T222644Z
UID:2734-1772100000-1772103600@habitatbaldwin.org
SUMMARY:Goal Setting - Financial Education Class
DESCRIPTION:Habitat Baldwin currently offers various financial education curriculums. All classes and coaching are currently offered free of charge\, and all courses are open to the public\, but registration is required. \nThis financial education class is called Goal Setting. During this class we discuss the importance of setting goals and all the best practices to stay on track and achieve those goals. Attendees will have the opportunity to explore goals that might be important to them and brainstorm a plan to reach those goals. \nThe course is offered free of charge; however\, you must register at least 24 hours before the class at the link below. \n\nQuestions? Call (251) 943-7268 or email sstephens@habitatbaldwin.org. Please register here.
URL:https://habitatbaldwin.org/event/financial-education-class-goal-setting-4/
CATEGORIES:Financial Foundation
ATTACH;FMTTYPE=image/png:https://habitatbaldwin.org/wp-content/uploads/2024/01/Financial-Education-Class-FB-Event-Covers-1.png
END:VEVENT
BEGIN:VEVENT
DTSTART;TZID=America/Chicago:20260226T180000
DTEND;TZID=America/Chicago:20260226T190000
DTSTAMP:20260424T112708
CREATED:20240118T193754Z
LAST-MODIFIED:20251210T222610Z
UID:2732-1772128800-1772132400@habitatbaldwin.org
SUMMARY:Goal Setting - Financial Education Class
DESCRIPTION:Habitat Baldwin currently offers various financial education curriculums. All classes and coaching are currently offered free of charge\, and all courses are open to the public\, but registration is required. \nThis financial education class is called Goal Setting. During this class we discuss the importance of setting goals and all the best practices to stay on track and achieve those goals. Attendees will have the opportunity to explore goals that might be important to them and brainstorm a plan to reach those goals. \nThe course is offered free of charge; however\, you must register at least 24 hours before the class at the link below. \n\nQuestions? Call (251) 943-7268 or email sstephens@habitatbaldwin.org. Please register here.
URL:https://habitatbaldwin.org/event/financial-education-class-goal-setting-3/
CATEGORIES:Financial Foundation
ATTACH;FMTTYPE=image/png:https://habitatbaldwin.org/wp-content/uploads/2024/01/Financial-Education-Class-FB-Event-Covers-1.png
END:VEVENT
END:VCALENDAR