BEGIN:VCALENDAR
VERSION:2.0
PRODID:-//Habitat for Humanity Baldwin County - ECPv6.15.20//NONSGML v1.0//EN
CALSCALE:GREGORIAN
METHOD:PUBLISH
X-WR-CALNAME:Habitat for Humanity Baldwin County
X-ORIGINAL-URL:https://habitatbaldwin.org
X-WR-CALDESC:Events for Habitat for Humanity Baldwin County
REFRESH-INTERVAL;VALUE=DURATION:PT1H
X-Robots-Tag:noindex
X-PUBLISHED-TTL:PT1H
BEGIN:VTIMEZONE
TZID:America/Chicago
BEGIN:DAYLIGHT
TZOFFSETFROM:-0600
TZOFFSETTO:-0500
TZNAME:CDT
DTSTART:20240310T080000
END:DAYLIGHT
BEGIN:STANDARD
TZOFFSETFROM:-0500
TZOFFSETTO:-0600
TZNAME:CST
DTSTART:20241103T070000
END:STANDARD
BEGIN:DAYLIGHT
TZOFFSETFROM:-0600
TZOFFSETTO:-0500
TZNAME:CDT
DTSTART:20250309T080000
END:DAYLIGHT
BEGIN:STANDARD
TZOFFSETFROM:-0500
TZOFFSETTO:-0600
TZNAME:CST
DTSTART:20251102T070000
END:STANDARD
BEGIN:DAYLIGHT
TZOFFSETFROM:-0600
TZOFFSETTO:-0500
TZNAME:CDT
DTSTART:20260308T080000
END:DAYLIGHT
BEGIN:STANDARD
TZOFFSETFROM:-0500
TZOFFSETTO:-0600
TZNAME:CST
DTSTART:20261101T070000
END:STANDARD
BEGIN:DAYLIGHT
TZOFFSETFROM:-0600
TZOFFSETTO:-0500
TZNAME:CDT
DTSTART:20270314T080000
END:DAYLIGHT
BEGIN:STANDARD
TZOFFSETFROM:-0500
TZOFFSETTO:-0600
TZNAME:CST
DTSTART:20271107T070000
END:STANDARD
END:VTIMEZONE
BEGIN:VEVENT
DTSTART;VALUE=DATE:20260101
DTEND;VALUE=DATE:20260102
DTSTAMP:20260425T074450
CREATED:20251210T223334Z
LAST-MODIFIED:20251211T154744Z
UID:3049-1767225600-1767311999@habitatbaldwin.org
SUMMARY:Office & ReStore Closed - New Year's Day
DESCRIPTION:Our office and ReStore is closed on Thursday\, January 1st for the New Year!
URL:https://habitatbaldwin.org/event/office-restore-closed-new-years-day/
CATEGORIES:Office Closed
END:VEVENT
BEGIN:VEVENT
DTSTART;VALUE=DATE:20251224
DTEND;VALUE=DATE:20251227
DTSTAMP:20260425T074450
CREATED:20251211T160923Z
LAST-MODIFIED:20251211T160923Z
UID:3067-1766534400-1766793599@habitatbaldwin.org
SUMMARY:Office & ReStore Closed - Christmas
DESCRIPTION:Our office and ReStore are closed on Wednesday\, December 24th\, Thursday\, December 25th and Friday\, December 26th\, in observance of Christmas. \nOur ReStore will re-open on Saturday\, December 27th and our office will re-open on Monday\, December 29th.
URL:https://habitatbaldwin.org/event/office-restore-closed-christmas-2/
CATEGORIES:Office Closed,ReStore Closed
END:VEVENT
END:VCALENDAR