BEGIN:VCALENDAR
VERSION:2.0
PRODID:-//Habitat for Humanity Baldwin County - ECPv6.15.20//NONSGML v1.0//EN
CALSCALE:GREGORIAN
METHOD:PUBLISH
X-WR-CALNAME:Habitat for Humanity Baldwin County
X-ORIGINAL-URL:https://habitatbaldwin.org
X-WR-CALDESC:Events for Habitat for Humanity Baldwin County
REFRESH-INTERVAL;VALUE=DURATION:PT1H
X-Robots-Tag:noindex
X-PUBLISHED-TTL:PT1H
BEGIN:VTIMEZONE
TZID:America/Chicago
BEGIN:DAYLIGHT
TZOFFSETFROM:-0600
TZOFFSETTO:-0500
TZNAME:CDT
DTSTART:20250309T080000
END:DAYLIGHT
BEGIN:STANDARD
TZOFFSETFROM:-0500
TZOFFSETTO:-0600
TZNAME:CST
DTSTART:20251102T070000
END:STANDARD
BEGIN:DAYLIGHT
TZOFFSETFROM:-0600
TZOFFSETTO:-0500
TZNAME:CDT
DTSTART:20260308T080000
END:DAYLIGHT
BEGIN:STANDARD
TZOFFSETFROM:-0500
TZOFFSETTO:-0600
TZNAME:CST
DTSTART:20261101T070000
END:STANDARD
BEGIN:DAYLIGHT
TZOFFSETFROM:-0600
TZOFFSETTO:-0500
TZNAME:CDT
DTSTART:20270314T080000
END:DAYLIGHT
BEGIN:STANDARD
TZOFFSETFROM:-0500
TZOFFSETTO:-0600
TZNAME:CST
DTSTART:20271107T070000
END:STANDARD
END:VTIMEZONE
BEGIN:VEVENT
DTSTART;VALUE=DATE:20260907
DTEND;VALUE=DATE:20260908
DTSTAMP:20260424T183906
CREATED:20240119T163635Z
LAST-MODIFIED:20251211T160315Z
UID:2758-1788739200-1788825599@habitatbaldwin.org
SUMMARY:Office & ReStore Closed - Labor Day
DESCRIPTION:Our office and ReStore is closed on Monday\, September 7th in observance of Labor Day. We will re-open on Tuesday\, September 8th.
URL:https://habitatbaldwin.org/event/office-restore-closed-labor-day/
CATEGORIES:Office Closed,ReStore Closed
END:VEVENT
BEGIN:VEVENT
DTSTART;TZID=America/Chicago:20260914T100000
DTEND;TZID=America/Chicago:20260914T110000
DTSTAMP:20260424T183906
CREATED:20240118T194150Z
LAST-MODIFIED:20251211T154327Z
UID:2744-1789380000-1789383600@habitatbaldwin.org
SUMMARY:Financial Recovery - Financial Education Class
DESCRIPTION:Habitat Baldwin currently offers various financial education curriculums. All classes and coaching are currently offered free of charge\, and all courses are open to the public\, but registration is required. \nThis financial education class is called “Financial Recovery.” Designed to bring hope to families struggling to recover from a financial setback\, this course will equip participants with proactive\, practical strategies for getting back on their feet. The objective is to help participants visualize a brighter future and realize that their current financial difficulties don’t have to be permanent. \nThe course is offered free of charge; however\, you must register at least 24 hours before the class at the link below. \n\nQuestions? Call (251) 943-7268 or email sstephens@habitatbaldwin.org. Please register here.
URL:https://habitatbaldwin.org/event/financial-education-class-financial-recovery-5/
CATEGORIES:Financial Foundation
ATTACH;FMTTYPE=image/png:https://habitatbaldwin.org/wp-content/uploads/2022/12/2.png
END:VEVENT
BEGIN:VEVENT
DTSTART;TZID=America/Chicago:20260914T180000
DTEND;TZID=America/Chicago:20260914T190000
DTSTAMP:20260424T183906
CREATED:20240118T194211Z
LAST-MODIFIED:20251211T154303Z
UID:2746-1789408800-1789412400@habitatbaldwin.org
SUMMARY:Financial Recovery - Financial Education Class
DESCRIPTION:Habitat Baldwin currently offers various financial education curriculums. All classes and coaching are currently offered free of charge\, and all courses are open to the public\, but registration is required. \nThis financial education class is called “Financial Recovery.” Designed to bring hope to families struggling to recover from a financial setback\, this course will equip participants with proactive\, practical strategies for getting back on their feet. The objective is to help participants visualize a brighter future and realize that their current financial difficulties don’t have to be permanent. \nThe course is offered free of charge; however\, you must register at least 24 hours before the class at the link below. \n\nQuestions? Call (251) 943-7268 or email sstephens@habitatbaldwin.org. Please register here.
URL:https://habitatbaldwin.org/event/financial-education-class-financial-recovery-6/
CATEGORIES:Financial Foundation
ATTACH;FMTTYPE=image/png:https://habitatbaldwin.org/wp-content/uploads/2022/12/2.png
END:VEVENT
BEGIN:VEVENT
DTSTART;TZID=America/Chicago:20260924T100000
DTEND;TZID=America/Chicago:20260924T110000
DTSTAMP:20260424T183906
CREATED:20250116T174006Z
LAST-MODIFIED:20251211T154414Z
UID:2921-1790244000-1790247600@habitatbaldwin.org
SUMMARY:Home Maintenance - Financial Education Class
DESCRIPTION:Habitat Baldwin currently offers various financial education curriculums. All classes and coaching are currently offered free of charge\, and all courses are open to the public\, but registration is required. \nThis financial education class is called Home Maintenance. Buying a home is typically the largest purchase one makes. Habitat wants to make sure you know how to properly care for that home. A properly cared for home not only gives you and your family a better living experience\, but it also helps to build stability and wealth for generations to come. This class discusses a variety of maintenance tips to help care for your home. \nThe course is offered free of charge; however\, you must register at least 24 hours before the class at the link below. \n\nQuestions? Call (251) 943-7268 or email sstephens@habitatbaldwin.org. Please register here.
URL:https://habitatbaldwin.org/event/home-maintenance-financial-education-class-2/
CATEGORIES:Financial Foundation
ATTACH;FMTTYPE=image/png:https://habitatbaldwin.org/wp-content/uploads/2025/01/19.png
END:VEVENT
BEGIN:VEVENT
DTSTART;TZID=America/Chicago:20260924T180000
DTEND;TZID=America/Chicago:20260924T190000
DTSTAMP:20260424T183906
CREATED:20250116T173916Z
LAST-MODIFIED:20251211T154351Z
UID:2919-1790272800-1790276400@habitatbaldwin.org
SUMMARY:Home Maintenance - Financial Education Class
DESCRIPTION:Habitat Baldwin currently offers various financial education curriculums. All classes and coaching are currently offered free of charge\, and all courses are open to the public\, but registration is required. \nThis financial education class is called Home Maintenance. Buying a home is typically the largest purchase one makes. Habitat wants to make sure you know how to properly care for that home. A properly cared for home not only gives you and your family a better living experience\, but it also helps to build stability and wealth for generations to come. This class discusses a variety of maintenance tips to help care for your home. \nThe course is offered free of charge; however\, you must register at least 24 hours before the class at the link below. \n\nQuestions? Call (251) 943-7268 or email sstephens@habitatbaldwin.org. Please register here.
URL:https://habitatbaldwin.org/event/home-maintenance-financial-education-class/
CATEGORIES:Financial Foundation
ATTACH;FMTTYPE=image/png:https://habitatbaldwin.org/wp-content/uploads/2025/01/19.png
END:VEVENT
BEGIN:VEVENT
DTSTART;TZID=America/Chicago:20261012T100000
DTEND;TZID=America/Chicago:20261012T110000
DTSTAMP:20260424T183906
CREATED:20240118T194410Z
LAST-MODIFIED:20251211T161551Z
UID:2754-1791799200-1791802800@habitatbaldwin.org
SUMMARY:The Credit Game: How to Play & Win - Financial Education Class
DESCRIPTION:Designed for anyone who would like to better understand the many ways their credit score can affect their future and learn strategies to take control of that future today\, this course reviews the four main components that impact credit decisions\, finding and correcting errors on a credit report\, and strategies to improve credit. \nThis class is offered free of charge; however\, participants must register at least 24 hours before the class and will be provided a link after registration. Register by calling at (251) 943-7268\, emailing sstephens@habitatbaldwin.org\, or clicking here.
URL:https://habitatbaldwin.org/event/financial-education-class-the-credit-game-how-to-play-win-6/
CATEGORIES:Financial Foundation
ATTACH;FMTTYPE=image/png:https://habitatbaldwin.org/wp-content/uploads/2022/12/6.png
END:VEVENT
BEGIN:VEVENT
DTSTART;TZID=America/Chicago:20261012T180000
DTEND;TZID=America/Chicago:20261012T190000
DTSTAMP:20260424T183906
CREATED:20240118T194339Z
LAST-MODIFIED:20251211T154519Z
UID:2752-1791828000-1791831600@habitatbaldwin.org
SUMMARY:The Credit Game: How to Play & Win - Financial Education Class
DESCRIPTION:Designed for anyone who would like to better understand the many ways their credit score can affect their future and learn strategies to take control of that future today\, this course reviews the four main components that impact credit decisions\, finding and correcting errors on a credit report\, and strategies to improve credit. \nThis class is offered free of charge; however\, participants must register at least 24 hours before the class and will be provided a link after registration. Register by calling at (251) 943-7268\, emailing sstephens@habitatbaldwin.org\, or clicking here.
URL:https://habitatbaldwin.org/event/financial-education-class-the-credit-game-how-to-play-win-5/
CATEGORIES:Financial Foundation
ATTACH;FMTTYPE=image/png:https://habitatbaldwin.org/wp-content/uploads/2022/12/6.png
END:VEVENT
BEGIN:VEVENT
DTSTART;TZID=America/Chicago:20261029T100000
DTEND;TZID=America/Chicago:20261029T110000
DTSTAMP:20260424T183906
CREATED:20240118T194306Z
LAST-MODIFIED:20251211T154641Z
UID:2750-1793268000-1793271600@habitatbaldwin.org
SUMMARY:What affects credit scores? - Financial Education Class
DESCRIPTION:Habitat Baldwin currently offers various financial education curriculums. All classes and coaching are currently offered free of charge\, and all courses are open to the public\, but registration is required. \nThis financial education class is called What affects credit scores. During this class we go into detail about how your financial actions affect your credit score. We will discuss what actions carry the most weight in decreasing and increasing your credit. Along with determining the best practices to build and keep a strong credit report. \nThe course is offered free of charge; however\, you must register at least 24 hours before the class at the link below. \n\nQuestions? Call (251) 943-7268 or email sstephens@habitatbaldwin.org. Please register here.
URL:https://habitatbaldwin.org/event/financial-education-class-what-affects-credit-scores-4/
CATEGORIES:Financial Foundation
ATTACH;FMTTYPE=image/png:https://habitatbaldwin.org/wp-content/uploads/2024/01/Financial-Education-Class-FB-Event-Covers-2.png
END:VEVENT
BEGIN:VEVENT
DTSTART;TZID=America/Chicago:20261029T180000
DTEND;TZID=America/Chicago:20261029T190000
DTSTAMP:20260424T183906
CREATED:20240118T194244Z
LAST-MODIFIED:20251211T154615Z
UID:2748-1793296800-1793300400@habitatbaldwin.org
SUMMARY:What affects credit scores? - Financial Education Class
DESCRIPTION:Habitat Baldwin currently offers various financial education curriculums. All classes and coaching are currently offered free of charge\, and all courses are open to the public\, but registration is required. \nThis financial education class is called What affects credit scores. During this class we go into detail about how your financial actions affect your credit score. We will discuss what actions carry the most weight in decreasing and increasing your credit. Along with determining the best practices to build and keep a strong credit report. \nThe course is offered free of charge; however\, you must register at least 24 hours before the class at the link below. \n\nQuestions? Call (251) 943-7268 or email sstephens@habitatbaldwin.org. Please register here.
URL:https://habitatbaldwin.org/event/financial-education-class-what-affects-credit-scores-3/
CATEGORIES:Financial Foundation
ATTACH;FMTTYPE=image/png:https://habitatbaldwin.org/wp-content/uploads/2024/01/Financial-Education-Class-FB-Event-Covers-2.png
END:VEVENT
BEGIN:VEVENT
DTSTART;VALUE=DATE:20261126
DTEND;VALUE=DATE:20261128
DTSTAMP:20260424T183906
CREATED:20240119T163735Z
LAST-MODIFIED:20251211T160426Z
UID:2757-1795651200-1795823999@habitatbaldwin.org
SUMMARY:Office & ReStore Closed - Thanksgiving
DESCRIPTION:Our office and ReStore is closed on Thursday\, November 26th and Friday\, November 27th\, in observance of Thanksgiving. Our office will re-open on Monday\, November 30th.
URL:https://habitatbaldwin.org/event/office-closed-thanksgiving-3/
CATEGORIES:Office Closed
END:VEVENT
BEGIN:VEVENT
DTSTART;VALUE=DATE:20261224
DTEND;VALUE=DATE:20261226
DTSTAMP:20260424T183906
CREATED:20251211T160648Z
LAST-MODIFIED:20251211T161448Z
UID:3065-1798070400-1798243199@habitatbaldwin.org
SUMMARY:Office & ReStore Closed - Christmas
DESCRIPTION:Our office and ReStore is closed on Thursday\, December 24th and Friday\, December 25th\, in observance of Christmas. Our office will re-open on Monday\, December 28th.
URL:https://habitatbaldwin.org/event/office-restore-closed-christmas/
CATEGORIES:Office Closed,ReStore Closed
END:VEVENT
END:VCALENDAR