BEGIN:VCALENDAR
VERSION:2.0
PRODID:-//Habitat for Humanity Baldwin County - ECPv6.15.20//NONSGML v1.0//EN
CALSCALE:GREGORIAN
METHOD:PUBLISH
X-WR-CALNAME:Habitat for Humanity Baldwin County
X-ORIGINAL-URL:https://habitatbaldwin.org
X-WR-CALDESC:Events for Habitat for Humanity Baldwin County
REFRESH-INTERVAL;VALUE=DURATION:PT1H
X-Robots-Tag:noindex
X-PUBLISHED-TTL:PT1H
BEGIN:VTIMEZONE
TZID:America/Chicago
BEGIN:DAYLIGHT
TZOFFSETFROM:-0600
TZOFFSETTO:-0500
TZNAME:CDT
DTSTART:20250309T080000
END:DAYLIGHT
BEGIN:STANDARD
TZOFFSETFROM:-0500
TZOFFSETTO:-0600
TZNAME:CST
DTSTART:20251102T070000
END:STANDARD
BEGIN:DAYLIGHT
TZOFFSETFROM:-0600
TZOFFSETTO:-0500
TZNAME:CDT
DTSTART:20260308T080000
END:DAYLIGHT
BEGIN:STANDARD
TZOFFSETFROM:-0500
TZOFFSETTO:-0600
TZNAME:CST
DTSTART:20261101T070000
END:STANDARD
BEGIN:DAYLIGHT
TZOFFSETFROM:-0600
TZOFFSETTO:-0500
TZNAME:CDT
DTSTART:20270314T080000
END:DAYLIGHT
BEGIN:STANDARD
TZOFFSETFROM:-0500
TZOFFSETTO:-0600
TZNAME:CST
DTSTART:20271107T070000
END:STANDARD
END:VTIMEZONE
BEGIN:VEVENT
DTSTART;VALUE=DATE:20260525
DTEND;VALUE=DATE:20260526
DTSTAMP:20260424T122928
CREATED:20240119T163346Z
LAST-MODIFIED:20251211T155149Z
UID:2761-1779667200-1779753599@habitatbaldwin.org
SUMMARY:Office & ReStore Closed - Memorial Day
DESCRIPTION:Our office and ReStore is closed on Monday\, May 25th\, in observance of Memorial Day. We will re-open on Tuesday\, May 26th.
URL:https://habitatbaldwin.org/event/office-closed-memorial-day-2/
CATEGORIES:Office Closed,ReStore Closed
END:VEVENT
BEGIN:VEVENT
DTSTART;VALUE=DATE:20260619
DTEND;VALUE=DATE:20260620
DTSTAMP:20260424T122928
CREATED:20240119T163445Z
LAST-MODIFIED:20251211T155407Z
UID:2760-1781827200-1781913599@habitatbaldwin.org
SUMMARY:Office & ReStore Closed - Juneteenth
DESCRIPTION:Our office and ReStore is closed on Friday\, June 19th\, in observance of Juneteenth. Our ReStore will re-open on Saturday\, June 20th and our office will re-open on Monday\, June 22nd.
URL:https://habitatbaldwin.org/event/office-restore-closed-juneteenth/
CATEGORIES:Office Closed,ReStore Closed
END:VEVENT
BEGIN:VEVENT
DTSTART;VALUE=DATE:20260703
DTEND;VALUE=DATE:20260704
DTSTAMP:20260424T122928
CREATED:20240119T163547Z
LAST-MODIFIED:20251211T160119Z
UID:2759-1783036800-1783123199@habitatbaldwin.org
SUMMARY:Office Closed - Independence Day
DESCRIPTION:Our office is closed on Friday\, July 3rd in observance of Independence Day and will re-open on Monday\, July 6th. \nOur ReStore is closed on Saturday\, July 4th\, in observance of Independence Day. We will re-open on Monday\, July 6th.
URL:https://habitatbaldwin.org/event/office-restore-closed-independence-day/
CATEGORIES:Office Closed,ReStore Closed
END:VEVENT
BEGIN:VEVENT
DTSTART;VALUE=DATE:20260907
DTEND;VALUE=DATE:20260908
DTSTAMP:20260424T122928
CREATED:20240119T163635Z
LAST-MODIFIED:20251211T160315Z
UID:2758-1788739200-1788825599@habitatbaldwin.org
SUMMARY:Office & ReStore Closed - Labor Day
DESCRIPTION:Our office and ReStore is closed on Monday\, September 7th in observance of Labor Day. We will re-open on Tuesday\, September 8th.
URL:https://habitatbaldwin.org/event/office-restore-closed-labor-day/
CATEGORIES:Office Closed,ReStore Closed
END:VEVENT
BEGIN:VEVENT
DTSTART;VALUE=DATE:20261126
DTEND;VALUE=DATE:20261128
DTSTAMP:20260424T122928
CREATED:20240119T163735Z
LAST-MODIFIED:20251211T160426Z
UID:2757-1795651200-1795823999@habitatbaldwin.org
SUMMARY:Office & ReStore Closed - Thanksgiving
DESCRIPTION:Our office and ReStore is closed on Thursday\, November 26th and Friday\, November 27th\, in observance of Thanksgiving. Our office will re-open on Monday\, November 30th.
URL:https://habitatbaldwin.org/event/office-closed-thanksgiving-3/
CATEGORIES:Office Closed
END:VEVENT
BEGIN:VEVENT
DTSTART;VALUE=DATE:20261224
DTEND;VALUE=DATE:20261226
DTSTAMP:20260424T122928
CREATED:20251211T160648Z
LAST-MODIFIED:20251211T161448Z
UID:3065-1798070400-1798243199@habitatbaldwin.org
SUMMARY:Office & ReStore Closed - Christmas
DESCRIPTION:Our office and ReStore is closed on Thursday\, December 24th and Friday\, December 25th\, in observance of Christmas. Our office will re-open on Monday\, December 28th.
URL:https://habitatbaldwin.org/event/office-restore-closed-christmas/
CATEGORIES:Office Closed,ReStore Closed
END:VEVENT
END:VCALENDAR