BEGIN:VCALENDAR
VERSION:2.0
PRODID:-//Habitat for Humanity Baldwin County - ECPv6.15.20//NONSGML v1.0//EN
CALSCALE:GREGORIAN
METHOD:PUBLISH
X-ORIGINAL-URL:https://habitatbaldwin.org
X-WR-CALDESC:Events for Habitat for Humanity Baldwin County
REFRESH-INTERVAL;VALUE=DURATION:PT1H
X-Robots-Tag:noindex
X-PUBLISHED-TTL:PT1H
BEGIN:VTIMEZONE
TZID:America/Chicago
BEGIN:DAYLIGHT
TZOFFSETFROM:-0600
TZOFFSETTO:-0500
TZNAME:CDT
DTSTART:20250309T080000
END:DAYLIGHT
BEGIN:STANDARD
TZOFFSETFROM:-0500
TZOFFSETTO:-0600
TZNAME:CST
DTSTART:20251102T070000
END:STANDARD
BEGIN:DAYLIGHT
TZOFFSETFROM:-0600
TZOFFSETTO:-0500
TZNAME:CDT
DTSTART:20260308T080000
END:DAYLIGHT
BEGIN:STANDARD
TZOFFSETFROM:-0500
TZOFFSETTO:-0600
TZNAME:CST
DTSTART:20261101T070000
END:STANDARD
BEGIN:DAYLIGHT
TZOFFSETFROM:-0600
TZOFFSETTO:-0500
TZNAME:CDT
DTSTART:20270314T080000
END:DAYLIGHT
BEGIN:STANDARD
TZOFFSETFROM:-0500
TZOFFSETTO:-0600
TZNAME:CST
DTSTART:20271107T070000
END:STANDARD
END:VTIMEZONE
BEGIN:VEVENT
DTSTART;TZID=America/Chicago:20260309T100000
DTEND;TZID=America/Chicago:20260309T110000
DTSTAMP:20260424T112801
CREATED:20221227T200758Z
LAST-MODIFIED:20251210T223518Z
UID:2399-1773050400-1773054000@habitatbaldwin.org
SUMMARY:Homeownership 101 - Financial Education Class
DESCRIPTION:Habitat Baldwin currently offers various financial education curriculums. All classes and coaching are currently offered free of charge\, and all courses are open to the public\, but registration is required. \nThis financial education class is called “Homeownership 101” Homeownership can be a very rewarding yet stressful experience. This course is specifically designed for those who feel they are ready to take the leap! It will provide information needed to avoid the many pitfalls of first-time homebuyers and outline the initial steps in the beginning of your homeownership journey. This course will also dispel those pesky homeownership myths\, and help potential buyers understand the pros and cons of ownership. If you’ve recently been bitten by the homeownership bug this is the first of many classes to help you prepare for a lifetime of sustainable homeownership! \nThe course is offered free of charge; however\, you must register at least 24 hours before the class at the link below. \n\nQuestions? Call (251) 943-7268 or email sstephens@habitatbaldwin.org. Please register here.
URL:https://habitatbaldwin.org/event/financial-education-class-homeownership-101-3/
CATEGORIES:Financial Foundation
ATTACH;FMTTYPE=image/png:https://habitatbaldwin.org/wp-content/uploads/2022/12/5.png
END:VEVENT
BEGIN:VEVENT
DTSTART;TZID=America/Chicago:20260309T180000
DTEND;TZID=America/Chicago:20260309T190000
DTSTAMP:20260424T112801
CREATED:20221227T200849Z
LAST-MODIFIED:20251210T223559Z
UID:2401-1773079200-1773082800@habitatbaldwin.org
SUMMARY:Homeownership 101 - Financial Education Class
DESCRIPTION:Habitat Baldwin currently offers various financial education curriculums. All classes and coaching are currently offered free of charge\, and all courses are open to the public\, but registration is required. \nThis financial education class is called “Homeownership 101” Homeownership can be a very rewarding yet stressful experience. This course is specifically designed for those who feel they are ready to take the leap! It will provide information needed to avoid the many pitfalls of first-time homebuyers and outline the initial steps in the beginning of your homeownership journey. This course will also dispel those pesky homeownership myths\, and help potential buyers understand the pros and cons of ownership. If you’ve recently been bitten by the homeownership bug this is the first of many classes to help you prepare for a lifetime of sustainable homeownership! \nThe course is offered free of charge; however\, you must register at least 24 hours before the class at the link below. \n\nQuestions? Call (251) 943-7268 or email sstephens@habitatbaldwin.org. Please register here.
URL:https://habitatbaldwin.org/event/financial-education-class-homeownership-101-4/
CATEGORIES:Financial Foundation
ATTACH;FMTTYPE=image/png:https://habitatbaldwin.org/wp-content/uploads/2022/12/5.png
END:VEVENT
END:VCALENDAR